BEGIN:VCALENDAR
VERSION:2.0
PRODID:-//Slavonija info - ECPv6.15.20//NONSGML v1.0//EN
CALSCALE:GREGORIAN
METHOD:PUBLISH
X-WR-CALNAME:Slavonija info
X-ORIGINAL-URL:https://slavonijainfo.com
X-WR-CALDESC:Događaji za Slavonija info
REFRESH-INTERVAL;VALUE=DURATION:PT1H
X-Robots-Tag:noindex
X-PUBLISHED-TTL:PT1H
BEGIN:VTIMEZONE
TZID:Europe/Zagreb
BEGIN:DAYLIGHT
TZOFFSETFROM:+0100
TZOFFSETTO:+0200
TZNAME:CEST
DTSTART:20230326T010000
END:DAYLIGHT
BEGIN:STANDARD
TZOFFSETFROM:+0200
TZOFFSETTO:+0100
TZNAME:CET
DTSTART:20231029T010000
END:STANDARD
BEGIN:DAYLIGHT
TZOFFSETFROM:+0100
TZOFFSETTO:+0200
TZNAME:CEST
DTSTART:20240331T010000
END:DAYLIGHT
BEGIN:STANDARD
TZOFFSETFROM:+0200
TZOFFSETTO:+0100
TZNAME:CET
DTSTART:20241027T010000
END:STANDARD
BEGIN:DAYLIGHT
TZOFFSETFROM:+0100
TZOFFSETTO:+0200
TZNAME:CEST
DTSTART:20250330T010000
END:DAYLIGHT
BEGIN:STANDARD
TZOFFSETFROM:+0200
TZOFFSETTO:+0100
TZNAME:CET
DTSTART:20251026T010000
END:STANDARD
BEGIN:DAYLIGHT
TZOFFSETFROM:+0100
TZOFFSETTO:+0200
TZNAME:CEST
DTSTART:20260329T010000
END:DAYLIGHT
BEGIN:STANDARD
TZOFFSETFROM:+0200
TZOFFSETTO:+0100
TZNAME:CET
DTSTART:20261025T010000
END:STANDARD
END:VTIMEZONE
BEGIN:VEVENT
DTSTART;TZID=Europe/Zagreb:20250503T000000
DTEND;TZID=Europe/Zagreb:20250503T235959
DTSTAMP:20260420T091653
CREATED:20250408T084125Z
LAST-MODIFIED:20250408T084127Z
UID:90717-1746230400-1746316799@slavonijainfo.com
SUMMARY:Ilok Walk&Wine 2025.
DESCRIPTION:Volite li šetnje kroz vinograde\, uživanje u lokalnim delicijama i druženje uz čašu vrhunskog vina\, ovo je događaj koji ne smijete propustiti! \n\n\n\nSrijem vas uvijek dočeka raširenih ruku\, s bogatim stolovima gdje mirisi domaće kuhinje pozdravljaju baš svakog gosta i prolaznika te vrhunskim vinima i gostoljubivošću koja grije dušu. A Ilok\, dragulj na Dunavu\, svake godine postaje domaćin zbilja odlične manifestacije Ilok Walk&Wine\, spajajući ljubitelje vina\, prirode i dobre hrane iz cijele Hrvatske. A\, tko jednom dođe u Ilok na ovo druženje\, teško ga zaboravlja. \n\n\n\nDođite na vikend\, a stvorite uspomene za cijeli život \n\n\n\nU subotu\, 3. svibnja\, Walk&Wine vas vodi kroz dvije rute\, 9 kilometara šetnje\, a čeka vas 15 iločkih vinara koji će vas oduševiti vinima i tradicionalnim delicijama. Ilok je već dugo sinonim za vrhunska vina\, ali i za onu rijetku ravnotežu između tradicije i opuštene\, tople atmosfere. Zato ne čudi što se svake godine sve više ljudi iz cijele Hrvatske vraća ovom posebnom kutku\, ne samo zbog dobre kapljice\, već i zbog osjećaja da ovdje vrijeme ide sporije\, a druženja su iskrenija i srdačnija. A taj vas osjećaj ne vara\, potvrdit će vam to svatko tko je barem jednom prošetao Walk&Wine rutom. \n\n\n\n„Treće izdanje Ilok Walk&Wine-a budi jednak entuzijazam kao i prva dva – možda čak i veći. Vraćaju nam se brojni stari poznanici koji su prošlih godina već osjetili čar Iloka\, a ove godine imamo i dosta novih lica. To nam je najveća potvrda da radimo nešto dobro – stvaramo događaj kojem se ljudi iskreno vesele\,“ kaže Mihovil Faletar\, dopredsjednik udruge Posjeti Ilok. „Atmosfera\, vina\, ljudi – sve se posloži baš kako treba\, i to ljudi pamte.“ \n\n\n\nDoživite srijemsku priču koju ćete ponijeti kući \n\n\n\nOve godine Ilok Walk&Wine donosi novost\, gradsku rutu koja vas vodi kroz vinarije smještene u samom Iloku (TRS\, Buhač\, Barbarić\, Čobanković\, Dragun\, Srednja škola Ilok\, Zima\, Zajac) tako da možete zaviriti tamo gdje vino nastaje\, od prve bačve do posljednje kapi u čaši. Osim prve\, tu je i druga vinska ruta koja obilazi druge vinarije te se proteže do Principovca (KAST\, Stipetić\, Markovinović\, Podrum Marija\, Buhač\, Burnaz\, Ćorić\, Iločki podrumi). Obje su duge otprilike 9 kilometara\, s čak osam degustacijskih stanica. Upoznat ćete samo srce Srijema kroz njezine okuse\, mirise i ljepotu prirode. \n\n\n\nOsim nasmijanih lokalnih vinara koji jedva čekaju da kušate njihova vina\, tu su i neizostavni domaći zalogaji poput pogačica s čvarcima\, kruha s masti i domaćih kiflica. Cjelodnevno druženje završava u atriju dvorca Odescalchi uz DJ-a i afterparty pod zvijezdama\, uz još vrhunskih vina. Jer\, Srijem i Ilok znaju kako se slavi. \n\n\n\n„Ako ste se ikad pitali kako izgleda proljetni vikend u Iloku – dođite i uvjerite se sami! Nema boljeg osjećaja nego šetati kroz vinograde\, zastati na čašu vina i zalogaj domaće hrane\, pa završiti dan smijehom pod zvijezdama. Ilok Walk&Wine je prilika da se odmaknete od svakodnevice i napunite baterije na najbolji mogući način\,“ poziva Ivan Ripić\, predsjednik udruge Posjeti Ilok. \n\n\n\nPrijave su isključivo putem obrasca\, a broj mjesta je ograničen \n\n\n\nPožurite i osigurajte svoje mjesto na Ilok Walk&Wine. Za 70 eura kotizacije dobivate ruksak\, majicu\, vinsku čašu s tobolcem\, bocu vode\, neograničenu degustaciju vina\, hranu na svakoj stanici te ulaz na afterparty\, ali i nešto što je nemoguće upakirati\, a to su osmijesi\, susreti i priče koje će se u društvu još godinama prepričavati. \n\n\n\nA\, u nedjelju\, nemojte odmah pobjeći. Produžite dan\, prošetajte starom jezgrom Iloka\, spustite se stazom do Dunava ili popijte kavu na Principovcu. Jer\, u Srijemu vikend nikad ne završava naglo\, već u svom ritmu\, polako\, kako i priliči čaši dobrog vina. \n\n\n\nVidimo se na Ilok Walk&Wine\, prve subote u svibnju. \n\n\n\nPrijave su moguće preko linka.
URL:https://slavonijainfo.com/event/ilok-walkwine-2025/
ATTACH;FMTTYPE=image/jpeg:https://slavonijainfo.com/wp-content/uploads/2025/04/IWW_2025_Autor_Marko-Dzavic_3.jpg
END:VEVENT
BEGIN:VEVENT
DTSTART;TZID=Europe/Zagreb:20250502T170000
DTEND;TZID=Europe/Zagreb:20250504T220000
DTSTAMP:20260420T091653
CREATED:20250409T093925Z
LAST-MODIFIED:20250409T093927Z
UID:90841-1746205200-1746396000@slavonijainfo.com
SUMMARY:Dani kajkavštine u Petlovcu
DESCRIPTION:Dani kajkavštine u Petlovcu će se održati od 2. do 4. svibnja \n\n\n\nOtvorenje manifestacije počinje u petak\, 2. svibnja u 17 sati a program počinje nastupom dječje skupine FS “Kraluši” udruge “Tradicijom za budućnost”. \n\n\n\nProgram je raznolik\, bit će izložbe kolača\, čitanje poezije\, predstava\, smotre folklora i vatrogasno natjecanje. \n\n\n\nOrganizator je Udruga Tradicijom za budućnost i DVD Petlovac. \n\n\n\nDetaljan program možete pronaći u nastavku.
URL:https://slavonijainfo.com/event/dani-kajkavstine-u-petlovcu-2/
ATTACH;FMTTYPE=image/jpeg:https://slavonijainfo.com/wp-content/uploads/2025/04/petlovac-kajkavstina.jpg
END:VEVENT
BEGIN:VEVENT
DTSTART;TZID=Europe/Zagreb:20250502T160000
DTEND;TZID=Europe/Zagreb:20250504T233000
DTSTAMP:20260420T091653
CREATED:20250416T113054Z
LAST-MODIFIED:20250416T113056Z
UID:91409-1746201600-1746401400@slavonijainfo.com
SUMMARY:7. Moto susreti MK Beli Manastir
DESCRIPTION:foto: MB Press\n\n\n\n\n\nMoto klub Beli Manastir organizira 7. Moto susret koji će se održati od 2. do 4. svibnja 2025. godine u parku oko prostorija kluba u Šećerani. \n\n\n\nProgram započinje u petak uz rock koncerte. Subota donosi pravu poslasticu za ljubitelje starih vozila – izložbu oldtimera. \n\n\n\nDefile će proći gradom u 17 sati\, a za bajkere je osiguran grah. \n\n\n\nViše informacija potražite na plakatu.
URL:https://slavonijainfo.com/event/7-moto-susreti-mk-beli-manastir/
ATTACH;FMTTYPE=image/jpeg:https://slavonijainfo.com/wp-content/uploads/2025/04/345447097_3314569382093249_382216544907782606_n.jpg
END:VEVENT
BEGIN:VEVENT
DTSTART;TZID=Europe/Zagreb:20250501T110000
DTEND;TZID=Europe/Zagreb:20250501T160000
DTSTAMP:20260420T091653
CREATED:20250327T062520Z
LAST-MODIFIED:20250327T062522Z
UID:89817-1746097200-1746115200@slavonijainfo.com
SUMMARY:Požeški kotlić 2025.
DESCRIPTION:foto: TZ Požega/arhiva\n\n\n\n\n\nNatjecanje se održava u četvrtak\, 1. svibnja 2025. godine u parku pored Orljave\, s početkom u 11:00 sati \n\n\n\nU parku pored Orljave 1. svibnja 2025. održava se tradicionalno natjecanje u kuhanju slavonskog čobanca – “Požeški kotlić”. Ovaj događaj svake godine okupi brojne natjecatelje iz cijele Slavonije. Manifestacija je otvorenog karaktera i namijenjena je natjecateljima\, ali i svim posjetiteljima koji žele sa svojom obitelji provesti ugodno vrijeme na otvorenom u Požegi. \n\n\n\nUz nezaobilazni prvomajski čobanac koji će i ove godine pripremiti Lovački savez Požeško – slavonske županije\, sve posjetitelje očekuje bogata ugostiteljska ponuda i zabava za najmlađe\, a za dobro raspoloženje pobrinut će se Tamburaški sastav Zlatna dolina. \n\n\n\nManifestacija će i ove godine uključiti Obiteljsku biciklijadu u suradnji s BBK Požega\, pružajući priliku za aktivno sudjelovanje i zabavu cijelim obiteljima\, a zahvaljujući suradnji s Lovačkim savezom Požeško-slavonske županije\, posjetitelji će imati priliku uživati u pravom\, slavonskom čobancu. \n\n\n\nTuristička zajednica Grada Požege kao organizator gradske manifestacije „Požeški kotlić“ poziva sve zainteresirane da se prijave na natjecanje u kuhanju slavonskog čobanca. \n\n\n\n\nSudjelovanje na natjecanju se ne naplaćuje (nema kotizacije za natjecatelje)\n\n\n\nSvaki natjecatelj nakon ocjenjivanja raspolaže svojim čobancem (dijeli ga prijateljima i znancima BESPLATNO).\n\n\n\nProdaja natjecateljskog čobanca nije dopuštena.\n\n\n\nPopunjenu prijavnicu dostaviti najkasnije do 25. travnja 2025. u TZ Grada Požege\n\n\n\n\nPravila natjecanja: \n\n\n\nKako bi svi sudionici imali jednake uvjete\, Turistička zajednica za sve natjecatelje osigurava natjecateljsko mjesto\, meso\, vodu  i drva za potpalu\, dok je svaki natjecatelj dužan osigurati kotlić za kuhanje i začine prema vlastitom receptu. \n\n\n\nSvaki natjecatelj donosi svoj kotlić\, začine i ostalu opremu. Pravila su jasna – količina dobivenog mesa ne smije se smanjivati\, a svaki uzorak ocjenjuje se anonimno\, pod šifrom\, kako bi se osigurala pravednost. \n\n\n\nProsudbena komisija pomno prati svaki korak natjecanja\, ocjenjujući boju\, postojanost\, okus i opći dojam. Konačnu odluku donosi stručni žiri\, a tri najbolja kuhara osvajaju vrijedne nagrade. \n\n\n\nSvi natjecatelji dužni su osigurati jednu porciju slavonskog čobanca za ocjenjivanje. S ostatkom porcija slavonskog čobanca natjecatelji slobodno raspolažu\, bez mogućnosti prodaje istog.
URL:https://slavonijainfo.com/event/pozeski-kotlic-2025/
ATTACH;FMTTYPE=image/webp:https://slavonijainfo.com/wp-content/uploads/2025/03/pozeski-kotlic.webp
END:VEVENT
BEGIN:VEVENT
DTSTART;TZID=Europe/Zagreb:20250430T200000
DTEND;TZID=Europe/Zagreb:20250430T230000
DTSTAMP:20260420T091653
CREATED:20250408T115312Z
LAST-MODIFIED:20250408T120100Z
UID:90757-1746043200-1746054000@slavonijainfo.com
SUMMARY:Koncert Maje Šuput u Belišću
DESCRIPTION:foto: MB Press\n\n\n\n\n\nMaja Šuput će održati koncert 30. travnja na središnjem gradskom trgu u Belišću s početkom u 20 sati \n\n\n\nKoncert će se održati u sklopu obilježavanja Dana grada. Središnji dio proslave započet će ujutro Svečanom sjednicom Gradskog vijeća\, nakon koje slijedi druženje i ručak s građanima na desnoj obali Drave. \n\n\n\nViše o programu obilježavanja Dana grada Belišća pogledajte ovdje.
URL:https://slavonijainfo.com/event/koncert-maje-suput-u-beliscu/
ATTACH;FMTTYPE=image/jpeg:https://slavonijainfo.com/wp-content/uploads/2023/06/maja-kon.jpg
END:VEVENT
BEGIN:VEVENT
DTSTART;TZID=Europe/Zagreb:20250426T103000
DTEND;TZID=Europe/Zagreb:20250426T170000
DTSTAMP:20260420T091653
CREATED:20250318T084758Z
LAST-MODIFIED:20250318T084800Z
UID:89031-1745663400-1745686800@slavonijainfo.com
SUMMARY:Deer & Bike Baranja
DESCRIPTION:U subotu 26. travnja 2025. u Dražu\, u Baranji održat će se 9. Deer & Bike \n\n\n\nNajdugovječnija baranjska biciklijada pružit će vam doživljaj svega onoga što Baranja nudi\, od dunavskih šuma i ritova\, surduka i vidikovaca Banskog brda do prostrane ravnice te kušanja tradicionalnih šokačkih proizvoda i upoznavanja kulturne baštine. \n\n\n\nVožnja je turistička i ima edukativni karakter\, tempo je lagan\, uživajući u prirodi možete naučiti nešto o Baranji. \n\n\n\nKao i prošle godine i sada će se dio rute odraditi u Mađarskoj\, od Dunava do pustare Erdofy\, ruta će biti slična lanjskoj\, barem prvi dio. \n\n\n\nPrva polovina puta u potpunosti je ravničarska i šumska dok je drugi dio brdski i mnogo naporniji. \n\n\n\nOkupljanje počinje u 10:30 sati na Trgu Stipe Đurina u Dražu a vožnja počinje s početkom u 11 sati i završava u 16 sati. \n\n\n\nPrijaviti se možete putem linka. \n\n\n\nKotizacija iznosi 30 eura te uključuje tradicionalni baranjski ručak s uključenim pićem\, majica biciklijade Deer&Bike i usluge organizacije i turističkog vodiča. \n\n\n\nViše o eventu na Facebook stranici.
URL:https://slavonijainfo.com/event/deer-bike-baranja/
ATTACH;FMTTYPE=image/jpeg:https://slavonijainfo.com/wp-content/uploads/2025/03/plakat-1111-1536x864-1.jpg
END:VEVENT
BEGIN:VEVENT
DTSTART;TZID=Europe/Zagreb:20250425T000000
DTEND;TZID=Europe/Zagreb:20250427T235959
DTSTAMP:20260420T091653
CREATED:20250408T100052Z
LAST-MODIFIED:20250408T100053Z
UID:90736-1745539200-1745798399@slavonijainfo.com
SUMMARY:20. Salori – sajam lova\, ribolova i turizma u Osijeku
DESCRIPTION:foto: OBŽ/arhiva\n\n\n\n\n\nSajam lova ribolova i turizma ove godine će se održati od 25. do 27. travnja na sajamskom prostoru Gospodarskog centra Osječko-baranjske županije u Osijeku \n\n\n\nU Hrvatskoj ima gotovo 69.000 lovaca i više od 76.000 sportskih ribolovaca. \n\n\n\nNa području Osječko-baranjske županije nalazi se 107 lovišta\, od kojih je oko 20 državnih\, dok su ostala zajednička. \n\n\n\nŠto Vas očekuje? \n\n\n\n\nPredstavljanje brojnih lovačkih i ribolovnih saveza i društava\,\n\n\n\nbogata ponuda opreme za lov i ribolov\,\n\n\n\nponuda tradicionalnih slavonskih specijaliteta\,\n\n\n\nzanimljive edukativne radionice\,\n\n\n\nizložba fotografija o bogatstvu prirodnih ljepota\,\n\n\n\npaneli\, predavanja i radionice iz područja lova i ribolova\n\n\n\n\nUlaznica za sajam je 5 eura za sva tri dana\, a za djecu do 15 godina ulaz je besplatan. \n\n\n\nOsiguran besplatan parking za sve posjetitelje.
URL:https://slavonijainfo.com/event/20-salori-sajam-lova-ribolova-i-turizma-u-osijeku/
ATTACH;FMTTYPE=image/jpeg:https://slavonijainfo.com/wp-content/uploads/2025/04/SALORI.jpg
END:VEVENT
BEGIN:VEVENT
DTSTART;TZID=Europe/Zagreb:20250412T000000
DTEND;TZID=Europe/Zagreb:20250511T235959
DTSTAMP:20260420T091653
CREATED:20250408T114827Z
LAST-MODIFIED:20250408T115016Z
UID:90753-1744416000-1747007999@slavonijainfo.com
SUMMARY:Program: Dan grada Belišća 2025.
DESCRIPTION:Kroz mjesec dana programa održat će se izložbe\, koncerti\, sportski susreti i natjecanja\, predavanja\, tradicionalni Uskrsni sajam\, Gastro fest\, Noć knjige\, Cvjetni korzo\, likovna kolonija te brojni drugi sadržaji u kojima sudjeluju udruge i ustanove \n\n\n\nOvogodišnji program obilježavanja Dan grada Belišća počinje u subotu\, 12. travnja Memorijalnim kupom u pecanju na Karašici u Gatu i tradicionalnom ekološkom akcijom “Volim Belišće\, ali čisto!”. \n\n\n\nKroz mjesec dana programa održat će se izložbe\, koncerti\, sportski susreti i natjecanja\, predavanja\, tradicionalni Uskrsni sajam\, Gastro fest\, Noć knjige\, Cvjetni korzo\, likovna kolonija te brojni drugi sadržaji u kojima sudjeluju udruge i ustanove. \n\n\n\nSredišnji događaj bit će 30. travnja\, kada će se u prijepodnevnim satima održati Svečana sjednica Gradskog vijeća grada Belišća\, potom druženje i ručak s građanima na desnoj obali Drave\, a u večernjim satima na središnjem gradskom trgu koncert će održati popularna Maja Šuput.
URL:https://slavonijainfo.com/event/program-dan-grada-belisca-2025/
ATTACH;FMTTYPE=image/jpeg:https://slavonijainfo.com/wp-content/uploads/2025/04/belisce-dan-grada.jpg
END:VEVENT
BEGIN:VEVENT
DTSTART;TZID=Europe/Zagreb:20240927T000000
DTEND;TZID=Europe/Zagreb:20250614T235959
DTSTAMP:20260420T091653
CREATED:20240918T083103Z
LAST-MODIFIED:20240918T083104Z
UID:76899-1727395200-1749945599@slavonijainfo.com
SUMMARY:Koncertna sezona 2024./2025. u Kulturnom centru Osijek
DESCRIPTION:foto: Grad Osijek\n\n\n\n\n\nU sklopu Kulturnog centra Osijek nalazi se nova koncertna dvorana nazvana po Osječaninu\, glazbenom virtuozu druge polovine 19. stoljeća\, Franji Krežmi. \n\n\n\nKoncertna dvorana u listopadu 2024. započinje s prvim koncertnim ciklusom koji će prvoj generaciji pretplatnika omogućiti uživanje u koncertima renomiranih domaćih i svjetskih glazbenika\, ansambala i orkestara – Krežmin ciklus (koncertni programi vrhunskih hrvatskih i međunarodnih orkestara\, ansambala i solističkih umjetnika)\, Nedjeljni ciklus (ciklus vrhunskih programa osječke glazbene scene) i Ciklus za mlade (6 besplatnih koncerata mladih talentiranih glazbenika). \n\n\n\nNova dvorana je s površinom od oko 1000 kvadratnih metara i s nešto više od 400 sjedećih mjesta druga najveća koncertna dvorana u Hrvatskoj\, nakon zagrebačke dvorane Vatroslava Lisinskog\, a trenutno je i najmodernija. \n\n\n\nSVEČANO OTVORENJE DVORANE\, 27.-28.9.2024. \n\n\n\nPetak\, 27. rujna 2024.\, program otvorenja: \n\n\n\n\nSimfonijski orkestar HRT-a\n\n\n\nPascal Rophé\, dirigent\n\n\n\nKonstantin Krasnitsky\, klavir\n\n\n\nSergej Rahmanjinov: 2. koncert za klavir i orkestar u c-molu\, op. 18\n\n\n\nIgor Stravinski: Žar ptica\, suita (1945)\n\n\n\nFranjo Krežma: Scherzino\n\n\n\n\nSubota\, 28. rujna 2024.\, program otvorenja: \n\n\n\n\nPraizvedba djela zborske glazbe hrvatskih skladatelja Tomislava Uhlika\, Brune Vlaheka i Davora Dedića napisanih i posvećenih otvorenju nove Dvorane u Osijeku\n\n\n\nVOKALNI ANSAMBL BREVIS\n\n\n\nANTOANETA RADOČAJ JERKOVIĆ dirigentica\n\n\n\n\nOsigurajte svoje mjesto u koncertnoj dvorani “Franjo Krežma” Kulturnog centra Osijek (KC Osijek) na vrijeme i budite prva generacija pretplatnika koja će uživati u koncertima renomiranih domaćih i svjetskih glazbenika\, ansambala i orkestara. \n\n\n\nKONCERTNA SEZONA 2024./2025.: Krežmin ciklus\, Nedjeljni ciklus\, Ciklus mladih \n\n\n\nKREŽMIN CIKLUS\, popis koncerata uključenih u pretplatu: \n\n\n\n7.10.2024. GLENN MILLER ORCHESTRA \n\n\n\n12.10.2024. ZAGREBAČKA FILHARMONIJA \n\n\n\n22.10.2024. ZAGREBAČKI SOLISTI \n\n\n\n21.11.2024. OKTET VIOLONČELA / MONIKA LESKOVAR\, violončelo / DARIJA AUGUŠTAN\, sopran \n\n\n\n30.11.2024. LADO – plesni koncert- Obilježavanje 75. rođendana \n\n\n\n12.12.2024. PANONSKA FILHARMONIJA & MARTINA FILJAK\, klavir \n\n\n\n15.2.2025. GORAN FILIPEC klavirski recital \n\n\n\n23.3.2025. PANONSKA FILHARMONIJA\, MIRA FORON\, violina \n\n\n\n17.5.2025. PANONSKA FILHARMONIJA\, DEJAN LAZIĆ\, klavir \n\n\n\n14.6.2025. PERPETUUM JAZZILE \n\n\n\nNEDJELJNI CIKLUS \n\n\n\n\nIZ HRVATSKIH PARTITURA\, Koncert orkestra\, opernih solista i Zbora Hrvatskog narodnog kazališta u Osijeku\n\n\n\nW.A. Mozart: REKVIJEM U D-MOLU\, KV 626\n\n\n\nOREKSTAR I ZBOR HRVATSKOG NARODNOG KAZALIŠTA U OSIJEKU/ VLADIMIR PISKUNOV dirigent/ MARO RICA Zborovođa/ OPERNI SOLISTI HNK U OSIJEKU\n\n\n\nF. Schubert: LIJEPA MLINARICA\, ciklus pjesama\n\n\n\nLADISLAV VRGOČ tenor\n\n\n\nOPERA GALA KONCERT\, Operni solisti HNK u Osijeku\n\n\n\nIVANA MEDIĆ & PRIJATELJI\n\n\n\nSLAVONSKO TAMBURAŠKO DRUŠTVO PAJO KOLARIĆ & KLAPE INTRADE\n\n\n\nKoncerti: HRVATSKO KULTURNO-UMJETNIČKO DRUŠTVO OSIJEK 1862/ HRVATSKO PJEVAČKO DRUŠTVO LIPA / VOKALNI ANSAMBL BREVIS\n\n\n\n\nCIKLUS MLADIH \n\n\n\n\nOtvorenje 15.10.2024 – koncert pijanistice SILVIJE NOVAK\, dobitnice stipendije Yamaha Music Europe Foundation\n\n\n\n\nViše informacija o sadržajima KC Osijek i PROGRAM koncertne sezone 2024./2025. pronađite na linkovima: \n\n\n\n\nwww.kulturni-centar.hr/koncertna_sezona\n\n\n\nwww.facebook.com/kulturnicentarosijek\n\n\n\n\nZanimljivosti o Franji Krežmi \n\n\n\nKoncertna dvorana u Osijeku nazvana je po ovome često nedovoljno isticanom hrvatskom violinistu i skladatelju koji je živo samo 19 godina (Osijek\, 4. IX. 1862 – Frankfurt na Majni\, 15. VI. 1881) no unatoč tome ostavio je preko stotinu skladbi iza sebe. Kritičari su njegovo sviranje ocjenjivali kao temperamentno\, svježe\, graciozno i izrazito virtuozno\, te ga uspoređivali s N. Paganinijem. Virtuozni elementi prožimaju i njegove skladbe\, u koje uklapa i stilizirane hrvatske folklorne elemente. Sačuvan ih je mali broj: simfonija\, 3 uvertire\, nekoliko orkestralnih koračnica i plesova\, gudački kvarteti\, skladbe za violinu\, zborovi i solo pjesme. Zarana je zavolio violinu\, instrument koji mu je donio svjetsku slavu. Glazbu je učio najprije u Zagrebu kod Đure Eisenhuta\, a poslije u Beču kod profesora Heizlera. U Bečki konzervatorij stupio je još kao devetogodišnjak\, kao najmlađi student ovog konzervatorija ikad! Studentske dane završio je na početku puberteta\, s 13 godina. Nakon toga je započeo spektakularnu karijeru diljem Europe. Već kao šesnaestogodišnjaka obožavala ga je koncertna publika u Rimu\, Pragu\, Veneciji\, Genovi i Parizu. U dobi od 17 godina postao je koncertni majstor u “Bilse orkestru”\, koji je imao u Berlinu službeni naslov “Bilse’sche Kapelle” iz kojeg je kasnije 1885. godine nastala današnja Berlinska filharmonija. Cijenili su ga brojni slavni umjetnici\, poput Giuseppea Verdija i Franza Liszta (s potonjim je u jednoj prilici i svirao). Njegovo ime danas u Osijeku nosi jedna osnovna škola\, Društvo prijatelja glazbe\, komorni orkestar\, ali i memorijal\, odnosno susret mladih gudača\, a u centru Osijeka\, u prolazu između glavnog trga (Korza) i Trga Slobode nalazi se zanimljiv spomenik poznatome sugrađaninu.
URL:https://slavonijainfo.com/event/koncertna-sezona-2024-2025-u-kulturnom-centru-osijek/
ATTACH;FMTTYPE=image/jpeg:https://slavonijainfo.com/wp-content/uploads/2024/09/Koncertna-dvorana-Osijek.jpeg
END:VEVENT
END:VCALENDAR