BEGIN:VCALENDAR
VERSION:2.0
PRODID:-//Slavonija info - ECPv6.15.20//NONSGML v1.0//EN
CALSCALE:GREGORIAN
METHOD:PUBLISH
X-WR-CALNAME:Slavonija info
X-ORIGINAL-URL:https://slavonijainfo.com
X-WR-CALDESC:Događaji za Slavonija info
REFRESH-INTERVAL;VALUE=DURATION:PT1H
X-Robots-Tag:noindex
X-PUBLISHED-TTL:PT1H
BEGIN:VTIMEZONE
TZID:Europe/Zagreb
BEGIN:DAYLIGHT
TZOFFSETFROM:+0100
TZOFFSETTO:+0200
TZNAME:CEST
DTSTART:20250330T010000
END:DAYLIGHT
BEGIN:STANDARD
TZOFFSETFROM:+0200
TZOFFSETTO:+0100
TZNAME:CET
DTSTART:20251026T010000
END:STANDARD
BEGIN:DAYLIGHT
TZOFFSETFROM:+0100
TZOFFSETTO:+0200
TZNAME:CEST
DTSTART:20260329T010000
END:DAYLIGHT
BEGIN:STANDARD
TZOFFSETFROM:+0200
TZOFFSETTO:+0100
TZNAME:CET
DTSTART:20261025T010000
END:STANDARD
BEGIN:DAYLIGHT
TZOFFSETFROM:+0100
TZOFFSETTO:+0200
TZNAME:CEST
DTSTART:20270328T010000
END:DAYLIGHT
BEGIN:STANDARD
TZOFFSETFROM:+0200
TZOFFSETTO:+0100
TZNAME:CET
DTSTART:20271031T010000
END:STANDARD
END:VTIMEZONE
BEGIN:VEVENT
DTSTART;TZID=Europe/Zagreb:20260620T210000
DTEND;TZID=Europe/Zagreb:20260620T233000
DTSTAMP:20260420T052142
CREATED:20260303T093522Z
LAST-MODIFIED:20260303T093544Z
UID:108905-1781989200-1781998200@slavonijainfo.com
SUMMARY:Koncert Zdravka Čolića u Slavonskom Brodu
DESCRIPTION:Foto: Dario Horvat\n\n\n\n\n\nZdravko Čolić nakon 14 godina stiže u Tvrđavu Brod \n\n\n\nGlas koji je obilježio desetljeća\, čuvar najljepših ljubavnih pjesama koje odavno imaju status himni i umjetnik čija se energija ne troši\, nego godinama samo dobiva na sjaju – legendarni Zdravko Čolić 20. lipnja stiže u Slavonski Brod i to u jedinstveni ambijent Tvrđave Brod. \n\n\n\nU taj se prostor Čolić vraća prvi put nakon 2012. godine\, a taj vremenski razmak samo je dodatno pojačao iščekivanje publike. Jer\, njegovi su koncerti više od nastupa – oni su glazbeni događaji u kojima svaka pjesma ima svoje mjesto i težinu\, večeri u kojima se briše granica između izvođača i publike. Malo je umjetnika koji s takvom lakoćom nose višesatni repertoar satkan od bezvremenskih hitova\, a da pritom svaki refren zvuči jednako svježe kao i prvoga dana. Svaka balada nosi novu nijansu\, a svaki brzi ritam potvrđuje njegovu nenametljivu\, ali nepogrešivu dominaciju pozornicom. \n\n\n\nPosebnu težinu ovom koncertu daje i prostor koji je mnogo više od kulise. Tvrđava Brod\, monumentalno barokno zdanje iz 18. stoljeća\, koje je mjesto susreta kulture i povijesti\, prostor koji svakoj manifestaciji daje dodatnu dimenziju ozbiljnosti i svečanosti. U takvom ambijentu\, pod otvorenim nebom i među zidinama koje nose priče prošlih vremena\, Čolićeva glazba dobiva gotovo filmski okvir. Koncert pod otvorenim nebom\, unutar zidina koje stoljećima čuvaju grad\, pružit će publici doživljaj koji nadilazi standardni glazbeni spektakl. \n\n\n\nPovratak Čolića u Slavonski Brod stoga nije samo još jedan datum u koncertnom kalendaru\, nego događaj koji ima i emotivnu i simboličnu vrijednost. Bit će to večer slavlja glazbe koja je obilježila živote generacija\, a ulaznice su već dostupne putem sustava Eventim.
URL:https://slavonijainfo.com/event/koncert-zdravka-colica-u-slavonskom-brodu/
ATTACH;FMTTYPE=image/jpeg:https://slavonijainfo.com/wp-content/uploads/2026/03/Zdravko-Colic_8.jpg
END:VEVENT
END:VCALENDAR