BEGIN:VCALENDAR
VERSION:2.0
PRODID:-//Slavonija info - ECPv6.15.20//NONSGML v1.0//EN
CALSCALE:GREGORIAN
METHOD:PUBLISH
X-WR-CALNAME:Slavonija info
X-ORIGINAL-URL:https://slavonijainfo.com
X-WR-CALDESC:Događaji za Slavonija info
REFRESH-INTERVAL;VALUE=DURATION:PT1H
X-Robots-Tag:noindex
X-PUBLISHED-TTL:PT1H
BEGIN:VTIMEZONE
TZID:Europe/Zagreb
BEGIN:DAYLIGHT
TZOFFSETFROM:+0100
TZOFFSETTO:+0200
TZNAME:CEST
DTSTART:20250330T010000
END:DAYLIGHT
BEGIN:STANDARD
TZOFFSETFROM:+0200
TZOFFSETTO:+0100
TZNAME:CET
DTSTART:20251026T010000
END:STANDARD
BEGIN:DAYLIGHT
TZOFFSETFROM:+0100
TZOFFSETTO:+0200
TZNAME:CEST
DTSTART:20260329T010000
END:DAYLIGHT
BEGIN:STANDARD
TZOFFSETFROM:+0200
TZOFFSETTO:+0100
TZNAME:CET
DTSTART:20261025T010000
END:STANDARD
BEGIN:DAYLIGHT
TZOFFSETFROM:+0100
TZOFFSETTO:+0200
TZNAME:CEST
DTSTART:20270328T010000
END:DAYLIGHT
BEGIN:STANDARD
TZOFFSETFROM:+0200
TZOFFSETTO:+0100
TZNAME:CET
DTSTART:20271031T010000
END:STANDARD
END:VTIMEZONE
BEGIN:VEVENT
DTSTART;TZID=Europe/Zagreb:20260514T000000
DTEND;TZID=Europe/Zagreb:20260514T235959
DTSTAMP:20260420T032310
CREATED:20260325T104326Z
LAST-MODIFIED:20260325T104328Z
UID:110029-1778716800-1778803199@slavonijainfo.com
SUMMARY:Osijek Dron Expo 2026.
DESCRIPTION:foto: OBŽ\n\n\n\n\n\nGospodarski centar Osječko-baranjske županije će 14. i 15. svibnja 2026. biti domaćin 3. Konferencije i sajma dronova i naprednih tehnologija Osijek Drone Expo 2026. koja će se nakon višegodišnje stanke ponovno održati u Osijeku i Osječko-baranjskoj županiji. \n\n\n\nManifestacije će okupiti vodeće dionike iz područja bespilotnih sustava\, tehnologije i gospodarstva\, a cijeli program najavljen je na  konferenciji za medije na kojoj je sudjelovala županica Nataša Tramišak\, zamjenik gradonačelnika Osijeka Dragan Vulina te predstavnici organizatora i lidera domaće industrije dronova. \n\n\n\nIznimno mi je drago što se Drone Expo ponovno održava u Osijeku. Grad je već prepoznat kao svojevrsni “grad dronova”\, ponajprije zahvaljujući tvrtki Orqa\, ali i inicijativi organizatora koji su još 2018. pokrenuli ovu priču. Ovaj sajam nije važan samo za gospodarstvo\, nego i za inovacije\, znanje i mlade\, naglasio je zamjenik osječkog gradonačelnika Dragan Vulin. \n\n\n\nOrganizator Ivan Vidaković najavio je kako će ovogodišnji Expo biti usmjeren na praktičnu primjenu tehnologije i približavanje dronova široj javnosti\, ali i profesionalnim korisnicima. \n\n\n\nPosjetitelji će imati priliku vidjeti tehnologije koje se već koriste\, ali i one koje tek dolaze\, posebno u području umjetne inteligencije i autonomnih sustava. Bit će predstavljeni i konkretni primjeri primjene\, poput dronova koji će prati fasadu Gospodarskog centra tijekom  trajanja manifestacije ili velikih poljoprivrednih dronova\, istaknuo je Vidaković. \n\n\n\nPoseban naglasak stavljen je na regulativu\, koja predstavlja ključan izazov za razvoj sektora. Na konferenciji i Expo manifestaciji sudjelovat će predstavnici Hrvatske agencije za civilno zrakoplovstvo i Hrvatske kontrole zračne plovidbe\, koji će odgovarati na pitanja vezana uz zakonodavni okvir i sigurnost letenja. Hrvatska je među prvim europskim zemljama uredila zračni prostor za dronove\, no i dalje postoji potreba za dodatnim pojašnjenjima i prilagodbama\, osobito za veće sustave koji se koriste u poljoprivredi\, istaki su organizatori. \n\n\n\nProgram će obuhvatiti širok spektar tema\,  od zakonodavstva i specijalnih dozvola do primjene dronova u poljoprivredi\, energetici i građevinarstvu\, kao i najnovijih tehnoloških inovacija u hardveru i softveru. \n\n\n\nU edukacijskom segmentu posebno će se predstaviti osječka tvrtka Orqa\, koja će demonstrirati svoje obrazovne programe i proizvode\, uključujući mikrodronove i FPV tehnologiju. Četiri najbolja tima iz Osijeka i Splita sučeli će se u finalnoj utrci Prve hrvatske školske dron lige koju organizira Orqa. \n\n\n\nOsim stručnog dijela\, manifestacija će ponuditi i sadržaje za širu javnost\, uključujući atraktivan dron light show\, kao i druge zanimljivosti. \n\n\n\nfoto: OBŽ
URL:https://slavonijainfo.com/event/osijek-dron-expo-2026/
ATTACH;FMTTYPE=image/jpeg:https://slavonijainfo.com/wp-content/uploads/2026/03/dron-41.jpg
END:VEVENT
BEGIN:VEVENT
DTSTART;TZID=Europe/Zagreb:20260516T000000
DTEND;TZID=Europe/Zagreb:20260516T235959
DTSTAMP:20260420T032310
CREATED:20260325T104510Z
LAST-MODIFIED:20260325T104512Z
UID:110032-1778889600-1778975999@slavonijainfo.com
SUMMARY:6. Lovački susreti u Vardarcu
DESCRIPTION:foto: MB Press/arhiva\n\n\n\n\n\nLovački susreti u Vardarcu održat će se 16. svibnja 2026. godine \n\n\n\nTradicionalni 6. Lovački susreti u Vardarcu ove će se godine održati 16. svibnja 2026.\, a organizira ih Lovačko društvo Vepar Vardarac\, donoseći bogat i raznolik program za sve uzraste. \n\n\n\nKao i svake godine bit će izložba lovačkih trofeja\, na kojoj lovačka društva s područja Općine Bilje predstavljaju svoje trofeje i opremu\, čuvajući i promovirajući lovačke običaje i tradiciju. \n\n\n\nPosebnu pažnju svake godine privlači i natjecanje u kuhanju čobanca\, koje je ujedno i centralni gastronomski događaj manifestacije. Najbolji majstori kotlića odmjerit će snage u pripremi ovog tradicionalnog jela. Prijave na broj telefona: 099 687 1105. \n\n\n\nUz to\, posjetitelje očekuje niz zanimljivih sadržaja: prezentacija sokolarenja\, koncert lovačkog puhačkog orkestra\, kreativni program Paint & Wine radionice\, predstava za djecu\, kao i dodjela medalja Hrvatskog lovačkog saveza. \n\n\n\nCjelodnevni program upotpunit će bogata gastro ponuda\, tombola i glazbeni sadržaji. \n\n\n\nUskoro više o programu.
URL:https://slavonijainfo.com/event/6-lovacki-susreti-u-vardarcu/
ATTACH;FMTTYPE=image/jpeg:https://slavonijainfo.com/wp-content/uploads/2026/03/348565532_788525179294841_4643006221878130229_n-1536x864-1.jpg
END:VEVENT
BEGIN:VEVENT
DTSTART;TZID=Europe/Zagreb:20260516T203000
DTEND;TZID=Europe/Zagreb:20260516T233000
DTSTAMP:20260420T032310
CREATED:20260408T125300Z
LAST-MODIFIED:20260408T125301Z
UID:110691-1778963400-1778974200@slavonijainfo.com
SUMMARY:Koncert Željka Bebeka u Slavonskom Brodu
DESCRIPTION:foto: MB Press/arhiva\n\n\n\n\n\nPovodom obilježavanja Dana grada\, u subotu 16. svibnja s početkom u 20:30 sati\, u Tvrđavi Brod održat će se koncert jednog od Željka Bebeka \n\n\n\nU čarobnom ambijentu Tvrđave Brod publiku očekuje večer vrhunske glazbe ispunjena emocijama i bezvremenskim hitovima. Karizmatičan glas i bogata karijera koja traje desetljećima učinili su Bebeka istinskom glazbenom legendom. Kao jedan od najvažnijih vokala u povijesti rock i pop glazbe ovih prostora\, ostavio je neizbrisiv trag pjesmama koje su obilježile generacije\, dok njegova uspješna samostalna karijera i danas privlači brojne obožavatelje. \n\n\n\nPublika će imati priliku uživati u velikim hitovima poput „Oprosti mi što te volim“\, „Tijana“\, „Da je sreće bilo“\, „Kao da te ne volim“ i „Kupit ću nam sat“\, pjesmama koje su dodatno učvrstile njegov status jednog od najcjenjenijih izvođača u regiji. \n\n\n\nU povijesnom okruženju tvrđave\, pod proljetnim nebom i u slavljeničkom ozračju Dana grada\, očekuje nas koncert koji će zasigurno biti jedan od vrhunaca ovogodišnje proslave. \n\n\n\nIz Grada pozivaju sve građane i posjetitelje da se pridruže proslavi\, povedu obitelj i prijatelje te uživaju u nezaboravnoj glazbenoj večeri koja će oduševiti sve generacije.
URL:https://slavonijainfo.com/event/koncert-zeljka-bebeka-u-slavonskom-brodu/
ATTACH;FMTTYPE=image/jpeg:https://slavonijainfo.com/wp-content/uploads/2026/04/Zeljko-Bebek2.jpg
END:VEVENT
BEGIN:VEVENT
DTSTART;TZID=Europe/Zagreb:20260604T000000
DTEND;TZID=Europe/Zagreb:20260606T235959
DTSTAMP:20260420T032310
CREATED:20260331T095112Z
LAST-MODIFIED:20260331T095113Z
UID:110321-1780531200-1780790399@slavonijainfo.com
SUMMARY:Vashar festival u Valpovu
DESCRIPTION:foto: Grad Valpovo \n\n\n\n\n\nOd 4. do 6. lipnja 2026. godine\, dvorac Prandau-Normann u Valpovu ponovno postaje središte alternativne glazbene scene – vraća se Vashar Festival\, trodnevni događaj koji po mnogima potvrđuje svoj status jednog od najzanimljivijih nezavisnih festivala u regiji. \n\n\n\nOvogodišnje izdanje ujedno je i drugo po redu izdanje festivala\, čime Vashar nastavlja graditi svoju priču i pozicionirati se kao važan punkt alternativne scene\, što u Hrvatskoj\, pa i u široj regiji. \n\n\n\nOvogodišnje izdanje donosi snažan i raznolik lineup predvođen imenima kao što su Brkovi i Ritam Nereda\, uz niz izvođača koji pokrivaju širok spektar žanrova – od punka\, rocka i metala do alternativnog i elektroničkog zvuka. \n\n\n\nNa pozornicu Vashara ove godine dolaze i Lazarvs\, Macha Ravel\, Jorgovani\, Mašinko\, Stardust\, Omega Diatribe\, Electric Purge\, Infest\, Havarija\, Brutala\, Extroft\, Ministranti\, Skleroza\, The Way We Are\, Rum Smugglers\, Juke West\, Mokri Filteri\, Gradske Bitange\, Collective Rage\, Portman\, Mitraljez\, Psmus\, Radios\, Matan i Rikros\, uz dodatna imena koja će biti objavljena uskoro. \n\n\n\nFestival će se ove godine odvijati na čak četiri pozornice\, smještene unutar zidina dvorca\, ali i ispred samog dvorca\, čime se dodatno širi festivalski prostor i omogućuje još bogatiji program. \n\n\n\nPoseban naglasak ove godine stavljen je na dnevni program kroz Ginko Stage\, koji će tijekom dana ugostiti dodatne izvođače\, sadržaje i opušteniju festivalsku atmosferu\, pružajući posjetiteljima iskustvo koje traje od podneva do ranih jutarnjih sati. \n\n\n\nUz glazbeni program\, festival donosi i brojne dnevne radionice te besplatan kamping za sve posjetitelje\, ostajući vjeran svojoj ideji zajedništva\, dostupnosti i DIY kulture. \n\n\n\nSmješten u jedinstvenom ambijentu valpovačkog dvorca\, festival spaja glazbu\, prostor i publiku u iskustvo koje nadilazi klasičan koncertni format. \n\n\n\nSve informacije mogu se pronaći na službenim Facebook i Instagram stranicama udruge Vashar. \n\n\n\nVashar Festival i ove godine potvrđuje – alternativa nije samo glazba\, nego zajednica.
URL:https://slavonijainfo.com/event/vashar-festival-u-valpovu/
ATTACH;FMTTYPE=image/jpeg:https://slavonijainfo.com/wp-content/uploads/2026/03/dvorac-Valpovo.jpg
END:VEVENT
BEGIN:VEVENT
DTSTART;TZID=Europe/Zagreb:20260620T210000
DTEND;TZID=Europe/Zagreb:20260620T233000
DTSTAMP:20260420T032310
CREATED:20260303T093522Z
LAST-MODIFIED:20260303T093544Z
UID:108905-1781989200-1781998200@slavonijainfo.com
SUMMARY:Koncert Zdravka Čolića u Slavonskom Brodu
DESCRIPTION:Foto: Dario Horvat\n\n\n\n\n\nZdravko Čolić nakon 14 godina stiže u Tvrđavu Brod \n\n\n\nGlas koji je obilježio desetljeća\, čuvar najljepših ljubavnih pjesama koje odavno imaju status himni i umjetnik čija se energija ne troši\, nego godinama samo dobiva na sjaju – legendarni Zdravko Čolić 20. lipnja stiže u Slavonski Brod i to u jedinstveni ambijent Tvrđave Brod. \n\n\n\nU taj se prostor Čolić vraća prvi put nakon 2012. godine\, a taj vremenski razmak samo je dodatno pojačao iščekivanje publike. Jer\, njegovi su koncerti više od nastupa – oni su glazbeni događaji u kojima svaka pjesma ima svoje mjesto i težinu\, večeri u kojima se briše granica između izvođača i publike. Malo je umjetnika koji s takvom lakoćom nose višesatni repertoar satkan od bezvremenskih hitova\, a da pritom svaki refren zvuči jednako svježe kao i prvoga dana. Svaka balada nosi novu nijansu\, a svaki brzi ritam potvrđuje njegovu nenametljivu\, ali nepogrešivu dominaciju pozornicom. \n\n\n\nPosebnu težinu ovom koncertu daje i prostor koji je mnogo više od kulise. Tvrđava Brod\, monumentalno barokno zdanje iz 18. stoljeća\, koje je mjesto susreta kulture i povijesti\, prostor koji svakoj manifestaciji daje dodatnu dimenziju ozbiljnosti i svečanosti. U takvom ambijentu\, pod otvorenim nebom i među zidinama koje nose priče prošlih vremena\, Čolićeva glazba dobiva gotovo filmski okvir. Koncert pod otvorenim nebom\, unutar zidina koje stoljećima čuvaju grad\, pružit će publici doživljaj koji nadilazi standardni glazbeni spektakl. \n\n\n\nPovratak Čolića u Slavonski Brod stoga nije samo još jedan datum u koncertnom kalendaru\, nego događaj koji ima i emotivnu i simboličnu vrijednost. Bit će to večer slavlja glazbe koja je obilježila živote generacija\, a ulaznice su već dostupne putem sustava Eventim.
URL:https://slavonijainfo.com/event/koncert-zdravka-colica-u-slavonskom-brodu/
ATTACH;FMTTYPE=image/jpeg:https://slavonijainfo.com/wp-content/uploads/2026/03/Zdravko-Colic_8.jpg
END:VEVENT
END:VCALENDAR