BEGIN:VCALENDAR
VERSION:2.0
PRODID:-//Slavonija info - ECPv6.15.20//NONSGML v1.0//EN
CALSCALE:GREGORIAN
METHOD:PUBLISH
X-ORIGINAL-URL:https://slavonijainfo.com
X-WR-CALDESC:Događaji za Slavonija info
REFRESH-INTERVAL;VALUE=DURATION:PT1H
X-Robots-Tag:noindex
X-PUBLISHED-TTL:PT1H
BEGIN:VTIMEZONE
TZID:Europe/Zagreb
BEGIN:DAYLIGHT
TZOFFSETFROM:+0100
TZOFFSETTO:+0200
TZNAME:CEST
DTSTART:20250330T010000
END:DAYLIGHT
BEGIN:STANDARD
TZOFFSETFROM:+0200
TZOFFSETTO:+0100
TZNAME:CET
DTSTART:20251026T010000
END:STANDARD
BEGIN:DAYLIGHT
TZOFFSETFROM:+0100
TZOFFSETTO:+0200
TZNAME:CEST
DTSTART:20260329T010000
END:DAYLIGHT
BEGIN:STANDARD
TZOFFSETFROM:+0200
TZOFFSETTO:+0100
TZNAME:CET
DTSTART:20261025T010000
END:STANDARD
BEGIN:DAYLIGHT
TZOFFSETFROM:+0100
TZOFFSETTO:+0200
TZNAME:CEST
DTSTART:20270328T010000
END:DAYLIGHT
BEGIN:STANDARD
TZOFFSETFROM:+0200
TZOFFSETTO:+0100
TZNAME:CET
DTSTART:20271031T010000
END:STANDARD
END:VTIMEZONE
BEGIN:VEVENT
DTSTART;TZID=Europe/Zagreb:20260227T000000
DTEND;TZID=Europe/Zagreb:20260301T235959
DTSTAMP:20260420T014251
CREATED:20260204T091917Z
LAST-MODIFIED:20260204T091918Z
UID:107733-1772150400-1772409599@slavonijainfo.com
SUMMARY:Proljetni i obrtnički sajam u Osijeku
DESCRIPTION:foto: OBŽ/arhiva\n\n\n\n\n\nProljetni i obrtnički sajam u Osijeku održat će se od 27.veljače do 1. ožujka 2026. godine. \n\n\n\nProljetni i obrtnički sajam veliki je sajam poljoprivrede i prehrane te obrtništva\, a možete ga posjetiti na sajamskom prostoru “Gospodarski centar Osječko-baranjske županije”. \n\n\n\nSajam okuplja izlagače i posjetitelje iz Hrvatske i inozemstva\, a ponuda uključuje: sjeme i sadni materijal\, zaštitu bilja\, mineralna gnojiva\, ekološku biljnu proizvodnju\, poljomehanizaciju\, poljoprivredne strojeve\, opremu i uređaje\, proizvode prehrambene industrije i domaće radinosti\, proizvode obiteljskih poljoprivrednih gospodarstava (OPG-a)\, autohtone slavonske delicije\, obrtničke rukotvorine\, opremu i uređaje u kućanstvu\, uz predstavljanje gospodarskih potencijala općina Osječko-baranjske županije\, te cijele Slavonije i Baranje. \n\n\n\nProljetni i obrtnički sajam održava se dulje od 30 godina\, a prema broju izlagača i posjetitelja te po veličini izložbenog prostora predstavlja iznimno značajan gospodarski događaj na istoku Hrvatske. \n\n\n\nUlaz je besplatan\, a za posjetitelje sajma osigurano je i besplatno parkiralište.
URL:https://slavonijainfo.com/event/proljetni-i-obrtnicki-sajam-u-osijeku/
ATTACH;FMTTYPE=image/jpeg:https://slavonijainfo.com/wp-content/uploads/2026/02/obrtnicki-sajam.jpg
END:VEVENT
BEGIN:VEVENT
DTSTART;TZID=Europe/Zagreb:20260228T203000
DTEND;TZID=Europe/Zagreb:20260228T233000
DTSTAMP:20260420T014251
CREATED:20251203T085345Z
LAST-MODIFIED:20251203T085346Z
UID:104516-1772310600-1772321400@slavonijainfo.com
SUMMARY:Parni Valjak u Osijeku
DESCRIPTION:Koncert će održati krajem veljače\, a ulaznice su dostupne u prodaji \n\n\n\nNakon iznimnog i rasprodanog koncerta u Areni Zagreb\, rock institucija Parni Valjak nastavlja svoju jubilarnu turneju „50” te najavljuje novi koncertni datum – 28. veljače 2026. godine u dvorani Gradski vrt u Osijeku. Ulaznice su dostupne putem sustava Eventim. \n\n\n\nNetom održani koncert u Zagrebu\, održan 29. studenog\, bio je poseban glazbeni trenutak u kojem su prošlost\, sadašnjost i budućnost benda spojene u jedinstvenom rock momentu. Uz sjajnu produkciju\, pažljivo osmišljen repertoar i emocijom ispunjenu atmosferu\, Parni Valjak je pred prepunom Arenom Zagreb još jednom pokazao zašto su već desetljećima jedno od najvažnijih glazbenih imena ovih prostora. Publika je od prvih taktova do posljednjih stihova stvarala energiju koja je podsjetila na duboku povezanost benda i fanova kroz generacije. \n\n\n\nProslavu jubilarnih pola stoljeća djelovanja Parni Valjak kroz ovu je godinu donio na pozornice diljem regije\, među kojima su i nastupi u pulskoj Areni\, riječkoj Dvorani Zamet\, splitskim Gripama\, dva rasprodana koncerta na šibenskoj Tvrđavi sv. Mihovila\, kao i središnji koncert turneje – onaj u Areni Zagreb. \n\n\n\nParni Valjak s ovim koncertnim spektaklom stiže u Osijek\, grad koji ima posebno mjesto na njihovoj glazbenoj mapi. Prateći originalni koncertni vizual za ovu prigodu inspiriran je Osijekom i njegovim prepoznatljivim simbolima – pješačkim mostom\, konkatedralom\, biciklima koji su dio osječke svakodnevice\, te bregunicom\, vrstom lastavice koja se nakon dugo godina vratila na obale Drave i jedan je od prirodnih prijatelja protiv komaraca koji su nenamjerni\, ali vječni simbol grada. U plavo-bijeloj paleti boja\, ilustracija donosi topli\, lokalno nadahnut vizualni identitet koji se savršeno uklapa u duh turneje “50”. \n\n\n\n50 godina aktivnosti i impresivnog glazbenog nasljeđa \n\n\n\nParni Valjak\, osnovan 1975. godine u Zagrebu\, desetljećima je sinonim za izvanredni rock\, energične izvedbe i pjesme koje su obilježile generacije. S više od 20 studijskih albuma stvorili su impresivno glazbeno nasljeđe\, prožeto iskrenošću\, istinskim emocijama i beskompromisnom predanošću publici\, a bezvremenske pjesme kao što su “Stranica dnevnika”\, “Jesen u meni”\, “Dođi”\, “Ugasi me”\, “Zastave”… zauvijek su utkane u glazbenu antologiju regije. \n\n\n\nOd samog početka pa sve do danas težili su produkcijskoj i sviračkoj savršenosti kako bi pružili nezaboravni glazbeni doživljaj. U njihovoj priči kroz 50 godina djelovanja posebno mjesto pripada Akiju Rahimovskom\, prepoznatljivom glasu i ikoni Parnog Valjka\, koji je iznenada preminuo 2022. godine\, čime završava cijelo jedno poglavlje benda. \n\n\n\nNakon što je bend tada stao s aktivnostima\, njihova strast prema glazbi i sviranju je nadjačala te godinu dana kasnije donose odluku o nastavku djelovanja. “Ne sviramo da bismo živjeli\, nego živimo da bismo svirali” istaknuo je tada Husein Hasanefendić Hus i nadodao kako ih je upravo ta strast natjerala da krenu dalje. \n\n\n\nU novom poglavlju bendu se pridružuje pjevač Igor Drvenkar\, s kojim su kroz protekle dvije godine održali više od 60 nastupa\, postepeno predstavljajući novu priču kroz nastupe od manjih klubova do velikih festivalskih i koncertnih prostora. U tom periodu objavili su i nove autorske pjesme\, a nedavno i novi studijski album „Kažu pčele umiru…” u izdanju Croatia Recordsa\, dostupan u digitalnom\, CD i LP formatu. \n\n\n\nNadolazeći koncert u Osijeku\, 28. veljače 2026. dolazi nakon što je bend pred osječkom publikom nastupio za Doček 2024. godine. Bit će ovo novi susret benda s posvećenom publikom i prilika da zajedno proslave 50 godina rock’n’rolla i neiscrpne ljubavi prema glazbi. Ulaznice su dostupne putem sustava Eventim\, a organizator je Baba Production. \n\n\n\nSvi detalji o koncertnim aktivnostima i glazbenim novostima benda dostupni su na službenoj stranici benda\, kao i Instagram\, Facebook i TikTok stranicama.
URL:https://slavonijainfo.com/event/parni-valjak-u-osijeku/
ATTACH;FMTTYPE=image/jpeg:https://slavonijainfo.com/wp-content/uploads/2025/12/parni-valjak.jpg
END:VEVENT
END:VCALENDAR